Workbook

Sheet Personalizza
B2: File Registro Pubblicazione Albo Contratti da graduatorie istituto - www.arenanicola.com - V. 2
B4: Anno scolastico 2026/27
B6: Intestazione scuola
B7: 1^ riga | C7: Istituto Comprensivo Gottolengo (BS)
B8: 2^ riga
B9: 3^ riga
B10: 4^ riga
B11: In alternativa, nel foglio "Provvedimento", puoi inserire l'immagine della carta intestata della scuola coprendo lo spazio predisposto.
B13: Sito web della scuola | C13: https://www.icgottolengo.edu.it/
B15: Dirigente Scolastico
B16: Nome e cognome | C16: Ilaria Romagnoli
B17: Scegli | C17: LA DIRIGENTE SCOLASTICA
B19: Tipo firma
B20: Facoltativo, puoi anche modificare la frase | C20: Firma autografa sostituita a mezzo stampa ai sensi e per gli effetti dell'art. 3, c.2, D.Lgs n. 39/1994.
B22: Referente del Procedimento
B23: Nome e cognome | C23: Simone Morzenti
B24: Qualifica | C24: A.A.
B25: Nel foglio "Provvedimento", se necessario, puoi modificare il nome del Referente
B27: Graduatorie di istituto DOCENTI
B28: Data produzione I fascia | C28: 31/08/2026
B29: Data pubblicazione | C29: 02/09/2026
B30: Protocollo | C30: 5705
B31: Data produzione II fascia | C31: 31/08/2026
B32: Data pubblicazione | C32: 02/09/2026
B33: Protocollo | C33: 5705
B34: Data produzione III fascia | C34: 31/08/2026
B35: Data pubblicazione | C35: 02/09/2026
B36: Protocollo | C36: 5705
B38: Graduatorie di istituto ATA
B39: Data produzione I fascia | C39: 28/08/2024
B40: Data pubblicazione | C40: 09/09/2024
B41: Protocollo | C41: 5341
B42: Data produzione II fascia | C42: 28/08/2024
B43: Data pubblicazione | C43: 09/09/2024
B44: Protocollo | C44: 5340
B45: Data produzione III fascia | C45: 28/08/2026
B46: Data pubblicazione | C46: 28/08/2026
B47: Protocollo | C47: 5563
B53: 45543 | C53: By Nicola Arena
C56: LA DIRIGENTE SCOLASTICA
...

Sheet Registro
B1: File Registro Pubblicazione Albo Contratti da graduatorie istituto - www.arenanicola.com - V. 2 | G1: In alternativa al Provvedimento, è possibile pubblicare periodicamente le seguenti informazioni in formato tabellare.
A2: =CONCATENATE(Personalizza!C7) -> Istituto Comprensivo Gottolengo (BS)
A3: Registro Provvedimento di individuazione destinatario di proposta contratto a tempo determinato a partire dalla graduatoria d'istituto in corso si validità.
B4: A.S.: | C4: 2026/27
B5: Provvedimento | D5: Dati del supplente | G5: Graduatorie di istituto | J5: Contratto | N5: APPUNTI
B6: n° | C6: Data | D6: Cognome e nome | E6: Qualifica | F6: classe di concorso | G6: Fascia | H6: Posizione | I6: Punteggio | J6: dal | K6: al | L6: ore sett.li | M6: Sede/Plesso di servizio
B7: 1
B8: 2
B9: 3
B10: 4
B11: 5
B12: 6
B13: 7
B14: 8
B15: 9
B16: 10
B17: 11
B18: 12
... B206: 200
D208: Referente del Procedimento | K208: =IF(Personalizza!C17=Personalizza!C56,"La Dirigente Scolastica","Il Dirigente Scolastico") -> La Dirigente Scolastica
D209: =CONCATENATE(Personalizza!C24) -> A.A. | K209: =CONCATENATE(Personalizza!C16) -> Ilaria Romagnoli
D210: =CONCATENATE(Personalizza!C23) -> Simone Morzenti | K210: =CONCATENATE(Personalizza!C20) -> Firma autografa sostituita a mezzo stampa ai sensi e per gli effetti dell'art. 3, c.2, D.Lgs n. 39/1994.
E1003: Scegli | G1003: I
E1004: …...................................................... | G1004: II
E1005: Docente Infanzia - Normale | G1005: III
E1006: Docente Infanzia - Sostegno | G1006: I - Unificata sostegno
E1007: …....................................................... | G1007: II - Unificata sostegno
E1008: Docente Primaria - Comune | G1008: III - Unificata sostegno
E1009: Docente Primaria - Sostegno | G1009: I - Istituto viciniore
E1010: Docente Primaria - Lingua: | G1010: II - Istituto viciniore
E1011: …........................................................ | G1011: III - Istituto viciniore
E1012: Docente Scuola media | G1012: Interpello
E1013: Docente Scuola media unificata Sostegno | G1013: M.A.D.
E1014: ….........................................................
E1015: Docente diplomato sec. II grado
E1016: Docente laureato sec. II grado
E1017: Docente laureato sec. II grado unificata Sostegno
E1018: …..........................................................
E1019: Collaboratore scolastico
E1020: Collaboratore scol. dei servizi
...

Sheet Provvedimento
J1: 8
A2: File Registro Pubblicazione Albo Contratti da graduatorie istituto - www.arenanicola.com - V. 2
A4: Ministero dell'Istruzione e del Merito | I4: Inserisci i dati nel foglio "Registro" e poi scegli da questa tendina il Provvedimento da pubblicare.
A5: =CONCATENATE(Personalizza!C7) -> Istituto Comprensivo Gottolengo (BS)
A6: =CONCATENATE(Personalizza!C8)
A7: =CONCATENATE(Personalizza!C9) | M7: Vedi esempi pubblicati.
A8: =CONCATENATE(Personalizza!C10)
A9: =CONCATENATE("Provvedimento n° ",J9," a.s. ",G18," del ",K9) -> Provvedimento n° 8 a.s. 2026/27 del | J9: =CONCATENATE(INDEX(Registro!B7:B206,$J$1,)) -> 8 | K9: =CONCATENATE(INDEX(Registro!C7:C206,$J$1,))
D11: Al | E11: Fascicolo Personale di | G11: =CONCATENATE(INDEX(Registro!D7:D206,$J$1,))
D12: All' | E12: Albo online - Categoria: | G12: Graduatorie
E13: del Sito web della scuola
E14: =CONCATENATE(Personalizza!C13) -> https://www.icgottolengo.edu.it/
F15: Albo Online - Nomine personale
A17: Oggetto: | B17: Provvedimento di individuazione destinatario di proposta contratto a tempo determinato
B18: a partire dalla graduatoria d'istituto in corso di validità a.s. | G18: =CONCATENATE(Registro!C4) -> 2026/27
B19: =IF(D35=Registro!E1019,"Qualifica:",IF(D35=Registro!E1020,"Qualifica:",IF(D35=Registro!E10219,"Qualifica:",IF(D35=Registro!E1022,"Qualifica:",IF(D35=Registro!E1023,"Qualifica:",IF(D35=Registro!E1024,"Qualifica:",IF(D35=Registro!E1025,"Qualifica:",IF(D35=Registro!E1026,"Qualifica:",IF(D35=Registro!E1027,"Qualifica:",IF(D35=Registro!E1029,"Qualifica:",IF(D35=Registro!E1030,"Qualifica:",IF(D35=Registro!E1031,"Qualifica:","Insegnamento:")))))))))))) -> Qualifica: | C19: =CONCATENATE(D35," - ",D36) -> -
B20: =CONCATENATE(Personalizza!C17) -> LA DIRIGENTE SCOLASTICA
A21: ● | B21: =IF(D35=Registro!E1019,Personalizza!C64,IF(D35=Registro!E1020,Personalizza!C64,IF(D35=Registro!E1021,Personalizza!C64,IF(D35=Registro!E1022,Personalizza!C64,IF(D35=Registro!E1023,Personalizza!C64,IF(D35=Registro!E1024,Personalizza!C64,IF(D35=Registro!E1025,Personalizza!C64,IF(D35=Registro!E1026,Personalizza!C64,IF(D35=Registro!E1027,Personalizza!C64,IF(D35=Registro!E1029,Personalizza!C64,IF(D35=Registro!E1030,Personalizza!C64,IF(D35=Registro!E1031,Personalizza!C64,Personalizza!C63)))))))))))) -> Vista l’Ordinanza Ministeriale n. 88 del 16 maggio 2024, che contiene le regole per le supplenze ai docenti in vigore per il biennio scolastico 2024 – 2026 (Procedure di aggiornamento delle graduatorie provinciali e di istituto di cui all’articolo 4, commi 6- bis e 6-ter, della legge 3 maggio 1999, n. 124, e di conferimento delle relative supplenze per il personale docente ed educativo;
A22: ● | B22: Considerata la necessità di reclutare una/un supplente;
A23: ● | B23: Viste le graduatorie di istituto definitive, in corso di validità, degli aspiranti a supplenza,
B24: I FASCIA | C24: =IF(D35=Registro!E1019,Personalizza!C69,IF(D35=Registro!E1020,Personalizza!C69,IF(D35=Registro!E1021,Personalizza!C69,IF(D35=Registro!E1022,Personalizza!C69,IF(D35=Registro!E1023,Personalizza!C69,IF(D35=Registro!E1024,Personalizza!C69,IF(D35=Registro!E1025,Personalizza!C69,IF(D35=Registro!E1026,Personalizza!C69,IF(D35=Registro!E1027,Personalizza!C69,IF(D35=Registro!E1029,Personalizza!C69,IF(D35=Registro!E1030,Personalizza!C69,IF(D35=Registro!E1031,Personalizza!C69,Personalizza!C66)))))))))))) -> Data produzione 31/08/2026 pubblicata il 02/09/2026 con Protocollo 5705;
B25: II FASCIA | C25: =IF(D35=Registro!E1019,Personalizza!C70,IF(D35=Registro!E1020,Personalizza!C70,IF(D35=Registro!E1021,Personalizza!C70,IF(D35=Registro!E1022,Personalizza!C70,IF(D35=Registro!E1023,Personalizza!C70,IF(D35=Registro!E1024,Personalizza!C70,IF(D35=Registro!E1025,Personalizza!C70,IF(D35=Registro!E1026,Personalizza!C70,IF(D35=Registro!E1027,Personalizza!C70,IF(D35=Registro!E1029,Personalizza!C70,IF(D35=Registro!E1030,Personalizza!C70,IF(D35=Registro!E1031,Personalizza!C70,Personalizza!C67)))))))))))) -> Data produzione 31/08/2026 pubblicata il 02/09/2026 con Protocollo 5705;
B26: III FASCIA | C26: =IF(D35=Registro!E1019,Personalizza!C71,IF(D35=Registro!E1020,Personalizza!C71,IF(D35=Registro!E1021,Personalizza!C71,IF(D35=Registro!E1022,Personalizza!C71,IF(D35=Registro!E1023,Personalizza!C71,IF(D35=Registro!E1024,Personalizza!C71,IF(D35=Registro!E1025,Personalizza!C71,IF(D35=Registro!E1026,Personalizza!C71,IF(D35=Registro!E1027,Personalizza!C71,IF(D35=Registro!E1029,Personalizza!C71,IF(D35=Registro!E1030,Personalizza!C71,IF(D35=Registro!E1031,Personalizza!C71,Personalizza!C68)))))))))))) -> Data produzione 31/08/2026 pubblicata il 02/09/2026 con Protocollo 5705;
C27: =IF(G38=Registro!G1009,"Considerato che le graduatoerie di istituto risultano esaurite;",IF(G38=Registro!G1010,"Considerato che le graduatoerie di istituto risultano esaurite;",IF(G38=Registro!G1011,"Considerato che le graduatoerie di istituto risultano esaurite;",IF(G38=Registro!G1012,"Considerato che le graduatoerie di istituto risultano esaurite;",IF(G38=Registro!G1013,"Considerato che le graduatoerie di istituto risultano esaurite;"," ")))))
A28: ● | B28: Espletata la procedura di reclutamento;
A29: ● | B29: Vista la Circolare del 25 luglio 2024 Anno scolastico 2024/2025 – Istruzioni e indicazioni operative in materia di supplenze al personale docente, educativo ed A.T.A;
B30: INDIVIDUA
B31: QUALE DESTINATARIO DI CONTRATTO DI LAVORO A TEMPO DETERMINATO:
B33: Aspirante: | D33: =CONCATENATE(INDEX(Registro!D7:D206,$J$1,))
B35: =IF(D35=Registro!E1019,"Qualifica:",IF(D35=Registro!E1020,"Qualifica:",IF(D35=Registro!E10219,"Qualifica:",IF(D35=Registro!E1022,"Qualifica:",IF(D35=Registro!E1023,"Qualifica:",IF(D35=Registro!E1024,"Qualifica:",IF(D35=Registro!E1025,"Qualifica:",IF(D35=Registro!E1026,"Qualifica:",IF(D35=Registro!E1027,"Qualifica:",IF(D35=Registro!E1029,"Qualifica:",IF(D35=Registro!E1030,"Qualifica:",IF(D35=Registro!E1031,"Qualifica:","Insegnamento:")))))))))))) -> Qualifica: | D35: =CONCATENATE(INDEX(Registro!E7:E206,$J$1,))
B36: =IF(D35=Registro!E1019," ",IF(D35=Registro!E1020," ",IF(D35=Registro!E10219," ",IF(D35=Registro!E1022," ",IF(D35=Registro!E1023," ",IF(D35=Registro!E1024," ",IF(D35=Registro!E1025," ",IF(D35=Registro!E1026," ",IF(D35=Registro!E1027," ",IF(D35=Registro!E1029," ",IF(D35=Registro!E1030," ",IF(D35=Registro!E1031," ","Classe di concorso:")))))))))))) | D36: =CONCATENATE(INDEX(Registro!F7:F206,$J$1,))
B38: Tipo graduatoria: | D38: Graduatoria di Istituto | F38: Fascia | G38: =CONCATENATE(INDEX(Registro!G7:G206,$J$1,))
D39: Posizione | E39: =CONCATENATE(INDEX(Registro!H7:H206,$J$1,)) | F39: Punteggio | G39: =CONCATENATE(INDEX(Registro!I7:I206,$J$1,))
B41: Durata contratto: | D41: dal | E41: =CONCATENATE(INDEX(Registro!J7:J206,$J$1,)) | F41: al | G41: =CONCATENATE(INDEX(Registro!K7:K206,$J$1,))
D42: ore sett.li | E42: =CONCATENATE(INDEX(Registro!L7:L206,$J$1,))
B44: Sede di servizio: | D44: =CONCATENATE(INDEX(Registro!M7:M206,$J$1,))
B46: Avverso il presente atto potranno esse esperiti i rimedi giurisdizionali ed amministrativi
B47: previsti dall'ordinamento.
B49: Referente del Procedimento | G49: =IF(Personalizza!C17=Personalizza!C56,"La Dirigente Scolastica","Il Dirigente Scolastico") -> La Dirigente Scolastica
B50: A.A. | C50: Simone Morzenti | G50: =CONCATENATE(Personalizza!C16) -> Ilaria Romagnoli
...
